BEGIN:VCALENDAR
VERSION:2.0
PRODID:-//https://calenda-formation.labocleo.org
X-WR-CALNAME:Calenda
X-WR-TIMEZONE:Europe/Paris
CALSCALE:GREGORIAN
X-WR-CALDESC:Le calendrier des lettres et sciences humaines et sociales
METHOD:PUBLISH
BEGIN:VEVENT
DTSTART;VALUE=DATE:20161130
DTEND;VALUE=DATE:20161201
UID:374470-20161130@calenda.revues.org
SUMMARY:Les écrits de la réception : pratiques textuelles des publics médiatiques
URL:https://calenda-formation.labocleo.org/374470
DESCRIPTION:Ce numéro de « Genre en séries : cinéma\, télévision\, médias » entend rassembler des travaux qui prennent pour objet les pratiques textuelles des publics médiatiques et qui mobilisent\, de différentes façons\, le prisme du genre (gender) pour sa capacit… Más informaciones https://calenda-formation.labocleo.org/374470
LOCATION:París
END:VEVENT
END:VCALENDAR
