BEGIN:VCALENDAR
VERSION:2.0
PRODID:-//https://calenda-formation.labocleo.org
X-WR-CALNAME:Calenda
X-WR-TIMEZONE:Europe/Paris
CALSCALE:GREGORIAN
X-WR-CALDESC:The calendar for arts, humanities and social sciences
METHOD:PUBLISH
BEGIN:VEVENT
DTSTART;VALUE=DATE:20161130
DTEND;VALUE=DATE:20161201
UID:374480-20161130@calenda.revues.org
SUMMARY:The body in movement 3: the transformation of the body
URL:https://calenda-formation.labocleo.org/374480
DESCRIPTION:Les sciences de la vie et du vivant gouvernent les représentations contemporaines du corps. Elles tranchent entre le sain et le malsain\, la sécurité et le risque\, conjecturant les modalités de la vie et de la mort. Elles contribuent à définir la beau… @plus_info https://calenda-formation.labocleo.org/374480
LOCATION:Montpellier
END:VEVENT
END:VCALENDAR
