BEGIN:VCALENDAR
VERSION:2.0
PRODID:-//https://calenda-formation.labocleo.org
X-WR-CALNAME:Calenda
X-WR-TIMEZONE:Europe/Paris
CALSCALE:GREGORIAN
X-WR-CALDESC:Le calendrier des lettres et sciences humaines et sociales
METHOD:PUBLISH
BEGIN:VEVENT
DTSTART;VALUE=DATE:20160912
DTEND;VALUE=DATE:20160913
UID:374624-20160912@calenda.revues.org
SUMMARY:Les lundis numériques de l’Institut national d'histoire de l'art (INHA)
URL:https://calenda-formation.labocleo.org/374624
DESCRIPTION:L’Institut national d'histoire de l'art  effectue depuis plusieurs années une veille active dans le domaine des humanités numériques avec un accent porté sur ce qui touche au domaine visuel. De nombreux contacts et échanges sont régulièrement établis… Weitere Informationen https://calenda-formation.labocleo.org/374624
LOCATION:Paris
END:VEVENT
BEGIN:VEVENT
DTSTART;VALUE=DATE:20161010
DTEND;VALUE=DATE:20161011
UID:374624-20161010@calenda.revues.org
SUMMARY:Les lundis numériques de l’Institut national d'histoire de l'art (INHA)
URL:https://calenda-formation.labocleo.org/374624
DESCRIPTION:L’Institut national d'histoire de l'art  effectue depuis plusieurs années une veille active dans le domaine des humanités numériques avec un accent porté sur ce qui touche au domaine visuel. De nombreux contacts et échanges sont régulièrement établis… Weitere Informationen https://calenda-formation.labocleo.org/374624
LOCATION:Paris
END:VEVENT
BEGIN:VEVENT
DTSTART;VALUE=DATE:20161114
DTEND;VALUE=DATE:20161115
UID:374624-20161114@calenda.revues.org
SUMMARY:Les lundis numériques de l’Institut national d'histoire de l'art (INHA)
URL:https://calenda-formation.labocleo.org/374624
DESCRIPTION:L’Institut national d'histoire de l'art  effectue depuis plusieurs années une veille active dans le domaine des humanités numériques avec un accent porté sur ce qui touche au domaine visuel. De nombreux contacts et échanges sont régulièrement établis… Weitere Informationen https://calenda-formation.labocleo.org/374624
LOCATION:Paris
END:VEVENT
BEGIN:VEVENT
DTSTART;VALUE=DATE:20161212
DTEND;VALUE=DATE:20161213
UID:374624-20161212@calenda.revues.org
SUMMARY:Les lundis numériques de l’Institut national d'histoire de l'art (INHA)
URL:https://calenda-formation.labocleo.org/374624
DESCRIPTION:L’Institut national d'histoire de l'art  effectue depuis plusieurs années une veille active dans le domaine des humanités numériques avec un accent porté sur ce qui touche au domaine visuel. De nombreux contacts et échanges sont régulièrement établis… Weitere Informationen https://calenda-formation.labocleo.org/374624
LOCATION:Paris
END:VEVENT
BEGIN:VEVENT
DTSTART;VALUE=DATE:20170109
DTEND;VALUE=DATE:20170110
UID:374624-20170109@calenda.revues.org
SUMMARY:Les lundis numériques de l’Institut national d'histoire de l'art (INHA)
URL:https://calenda-formation.labocleo.org/374624
DESCRIPTION:L’Institut national d'histoire de l'art  effectue depuis plusieurs années une veille active dans le domaine des humanités numériques avec un accent porté sur ce qui touche au domaine visuel. De nombreux contacts et échanges sont régulièrement établis… Weitere Informationen https://calenda-formation.labocleo.org/374624
LOCATION:Paris
END:VEVENT
BEGIN:VEVENT
DTSTART;VALUE=DATE:20170213
DTEND;VALUE=DATE:20170214
UID:374624-20170213@calenda.revues.org
SUMMARY:Les lundis numériques de l’Institut national d'histoire de l'art (INHA)
URL:https://calenda-formation.labocleo.org/374624
DESCRIPTION:L’Institut national d'histoire de l'art  effectue depuis plusieurs années une veille active dans le domaine des humanités numériques avec un accent porté sur ce qui touche au domaine visuel. De nombreux contacts et échanges sont régulièrement établis… Weitere Informationen https://calenda-formation.labocleo.org/374624
LOCATION:Paris
END:VEVENT
BEGIN:VEVENT
DTSTART;VALUE=DATE:20170313
DTEND;VALUE=DATE:20170314
UID:374624-20170313@calenda.revues.org
SUMMARY:Les lundis numériques de l’Institut national d'histoire de l'art (INHA)
URL:https://calenda-formation.labocleo.org/374624
DESCRIPTION:L’Institut national d'histoire de l'art  effectue depuis plusieurs années une veille active dans le domaine des humanités numériques avec un accent porté sur ce qui touche au domaine visuel. De nombreux contacts et échanges sont régulièrement établis… Weitere Informationen https://calenda-formation.labocleo.org/374624
LOCATION:Paris
END:VEVENT
BEGIN:VEVENT
DTSTART;VALUE=DATE:20170410
DTEND;VALUE=DATE:20170411
UID:374624-20170410@calenda.revues.org
SUMMARY:Les lundis numériques de l’Institut national d'histoire de l'art (INHA)
URL:https://calenda-formation.labocleo.org/374624
DESCRIPTION:L’Institut national d'histoire de l'art  effectue depuis plusieurs années une veille active dans le domaine des humanités numériques avec un accent porté sur ce qui touche au domaine visuel. De nombreux contacts et échanges sont régulièrement établis… Weitere Informationen https://calenda-formation.labocleo.org/374624
LOCATION:Paris
END:VEVENT
BEGIN:VEVENT
DTSTART;VALUE=DATE:20170522
DTEND;VALUE=DATE:20170523
UID:374624-20170522@calenda.revues.org
SUMMARY:Les lundis numériques de l’Institut national d'histoire de l'art (INHA)
URL:https://calenda-formation.labocleo.org/374624
DESCRIPTION:L’Institut national d'histoire de l'art  effectue depuis plusieurs années une veille active dans le domaine des humanités numériques avec un accent porté sur ce qui touche au domaine visuel. De nombreux contacts et échanges sont régulièrement établis… Weitere Informationen https://calenda-formation.labocleo.org/374624
LOCATION:Paris
END:VEVENT
BEGIN:VEVENT
DTSTART;VALUE=DATE:20170612
DTEND;VALUE=DATE:20170613
UID:374624-20170612@calenda.revues.org
SUMMARY:Les lundis numériques de l’Institut national d'histoire de l'art (INHA)
URL:https://calenda-formation.labocleo.org/374624
DESCRIPTION:L’Institut national d'histoire de l'art  effectue depuis plusieurs années une veille active dans le domaine des humanités numériques avec un accent porté sur ce qui touche au domaine visuel. De nombreux contacts et échanges sont régulièrement établis… Weitere Informationen https://calenda-formation.labocleo.org/374624
LOCATION:Paris
END:VEVENT
END:VCALENDAR
