BEGIN:VCALENDAR
VERSION:2.0
PRODID:-//https://calenda-formation.labocleo.org
X-WR-CALNAME:Calenda
X-WR-TIMEZONE:Europe/Paris
CALSCALE:GREGORIAN
X-WR-CALDESC:Le calendrier des lettres et sciences humaines et sociales
METHOD:PUBLISH
BEGIN:VEVENT
DTSTART;VALUE=DATE:20160925
DTEND;VALUE=DATE:20160926
UID:375039-20160925@calenda.revues.org
SUMMARY:Special on sessions medieval equestrianism 
URL:https://calenda-formation.labocleo.org/375039
DESCRIPTION:Following the success of edieval equestrianism sessions at the International medieval congress (IMC) Leeds 2016\, we invite papers for special sessions on medieval equestrian history for the IMC at Leeds in 2017. We welcome papers on theoretical and p… Más informaciones https://calenda-formation.labocleo.org/375039
LOCATION:Leeds
END:VEVENT
END:VCALENDAR
