BEGIN:VCALENDAR
VERSION:2.0
PRODID:-//https://calenda-formation.labocleo.org
X-WR-CALNAME:Calenda
X-WR-TIMEZONE:Europe/Paris
CALSCALE:GREGORIAN
X-WR-CALDESC:O calendário de letras e de ciências sociais e humanas
METHOD:PUBLISH
BEGIN:VEVENT
DTSTART;VALUE=DATE:20160921
DTEND;VALUE=DATE:20160922
UID:375807-20160921@calenda.revues.org
SUMMARY:Repetition/s: Performance and Philosophy in Ljubljana
URL:https://calenda-formation.labocleo.org/375807
DESCRIPTION:Contemporary developments in the increasingly intertwined fields of philosophy and performance call for a renewed inquiry into the question of repetition. With its unique critique of ideology arising from a synthesis of German Idealism and Lacanian p… @plus_info https://calenda-formation.labocleo.org/375807
LOCATION:Liubliana
END:VEVENT
BEGIN:VEVENT
DTSTART;VALUE=DATE:20160922
DTEND;VALUE=DATE:20160923
UID:375807-20160922@calenda.revues.org
SUMMARY:Repetition/s: Performance and Philosophy in Ljubljana
URL:https://calenda-formation.labocleo.org/375807
DESCRIPTION:Contemporary developments in the increasingly intertwined fields of philosophy and performance call for a renewed inquiry into the question of repetition. With its unique critique of ideology arising from a synthesis of German Idealism and Lacanian p… @plus_info https://calenda-formation.labocleo.org/375807
LOCATION:Liubliana
END:VEVENT
BEGIN:VEVENT
DTSTART;VALUE=DATE:20160923
DTEND;VALUE=DATE:20160924
UID:375807-20160923@calenda.revues.org
SUMMARY:Repetition/s: Performance and Philosophy in Ljubljana
URL:https://calenda-formation.labocleo.org/375807
DESCRIPTION:Contemporary developments in the increasingly intertwined fields of philosophy and performance call for a renewed inquiry into the question of repetition. With its unique critique of ideology arising from a synthesis of German Idealism and Lacanian p… @plus_info https://calenda-formation.labocleo.org/375807
LOCATION:Liubliana
END:VEVENT
BEGIN:VEVENT
DTSTART;VALUE=DATE:20160924
DTEND;VALUE=DATE:20160925
UID:375807-20160924@calenda.revues.org
SUMMARY:Repetition/s: Performance and Philosophy in Ljubljana
URL:https://calenda-formation.labocleo.org/375807
DESCRIPTION:Contemporary developments in the increasingly intertwined fields of philosophy and performance call for a renewed inquiry into the question of repetition. With its unique critique of ideology arising from a synthesis of German Idealism and Lacanian p… @plus_info https://calenda-formation.labocleo.org/375807
LOCATION:Liubliana
END:VEVENT
END:VCALENDAR
