BEGIN:VCALENDAR
VERSION:2.0
PRODID:-//https://calenda-formation.labocleo.org
X-WR-CALNAME:Calenda
X-WR-TIMEZONE:Europe/Paris
CALSCALE:GREGORIAN
X-WR-CALDESC:The calendar for arts, humanities and social sciences
METHOD:PUBLISH
BEGIN:VEVENT
DTSTART;VALUE=DATE:20160930
DTEND;VALUE=DATE:20161001
UID:375938-20160930@calenda.revues.org
SUMMARY:What is a corpus?
URL:https://calenda-formation.labocleo.org/375938
DESCRIPTION:Le propos de cette journée d’études est de s’interroger sur ce qui est (ou pourrait être) un corpus pour les historiens médiévistes. Elle entend proposer un diagnostic et contribuer à ouvrir des pistes de recherches épistémologiques\, heuristiques et … @plus_info https://calenda-formation.labocleo.org/375938
LOCATION:Paris
END:VEVENT
END:VCALENDAR
