BEGIN:VCALENDAR
VERSION:2.0
PRODID:-//https://calenda-formation.labocleo.org
X-WR-CALNAME:Calenda
X-WR-TIMEZONE:Europe/Paris
CALSCALE:GREGORIAN
X-WR-CALDESC:Le calendrier des lettres et sciences humaines et sociales
METHOD:PUBLISH
BEGIN:VEVENT
DTSTART;VALUE=DATE:20161201
DTEND;VALUE=DATE:20161202
UID:376195-20161201@calenda.revues.org
SUMMARY:Diffamation : art et littérature de l'infamie
URL:https://calenda-formation.labocleo.org/376195
DESCRIPTION:Comment se situer en tant que chercheurs\, critiques et commentateurs face à des œuvres artistiques ou littéraires qui ont valu à leurs auteurs la condamnation juridique ? qui ont ostensiblement été publiées ou exposées pour faire accroître la visibil… Weitere Informationen https://calenda-formation.labocleo.org/376195
LOCATION:Montreal
END:VEVENT
END:VCALENDAR
