BEGIN:VCALENDAR
VERSION:2.0
PRODID:-//https://calenda-formation.labocleo.org
X-WR-CALNAME:Calenda
X-WR-TIMEZONE:Europe/Paris
CALSCALE:GREGORIAN
X-WR-CALDESC:Le calendrier des lettres et sciences humaines et sociales
METHOD:PUBLISH
BEGIN:VEVENT
DTSTART;VALUE=DATE:20161106
DTEND;VALUE=DATE:20161107
UID:376391-20161106@calenda.revues.org
SUMMARY:Bourses de début de thèse de la Basel Graduate School of History
URL:https://calenda-formation.labocleo.org/376391
DESCRIPTION:La Basel Graduate School of History (BGSH) met au concours trois bourses de début de thèse d’une durée d’une année (début de la bourse : 1er avril 2017). … @plus_info https://calenda-formation.labocleo.org/376391
LOCATION:Bâle
END:VEVENT
END:VCALENDAR
