BEGIN:VCALENDAR
VERSION:2.0
PRODID:-//https://calenda-formation.labocleo.org
X-WR-CALNAME:Calenda
X-WR-TIMEZONE:Europe/Paris
CALSCALE:GREGORIAN
X-WR-CALDESC:Le calendrier des lettres et sciences humaines et sociales
METHOD:PUBLISH
BEGIN:VEVENT
DTSTART;VALUE=DATE:20161015
DTEND;VALUE=DATE:20161016
UID:376584-20161015@calenda.revues.org
SUMMARY:Le constructivisme métaéthique et ses critiques
URL:https://calenda-formation.labocleo.org/376584
DESCRIPTION:La section de philosophie de l'université de Lausanne accueille les cinquièmes journées de métaéthique\, qui se tiendront à Lausanne les 16 et 17 février 2017. Le thème central de ces journées sera : « Le constructivisme métaéthique et ses critiques »… @plus_info https://calenda-formation.labocleo.org/376584
LOCATION:Lausanne
END:VEVENT
END:VCALENDAR
