BEGIN:VCALENDAR
VERSION:2.0
PRODID:-//https://calenda-formation.labocleo.org
X-WR-CALNAME:Calenda
X-WR-TIMEZONE:Europe/Paris
CALSCALE:GREGORIAN
X-WR-CALDESC:The calendar for arts, humanities and social sciences
METHOD:PUBLISH
BEGIN:VEVENT
DTSTART;VALUE=DATE:20160927
DTEND;VALUE=DATE:20160928
UID:376902-20160927@calenda.revues.org
SUMMARY:The border of arts
URL:https://calenda-formation.labocleo.org/376902
DESCRIPTION:Ce colloque interdisciplinaire jette un regard sur la reconfiguration des frontières esthétiques depuis le début du XXe siècle. La porosité entre les genres et les formes — ou leur « effrangement »\, pour reprendre le mot du philosophe Theodor Adorno … @plus_info https://calenda-formation.labocleo.org/376902
LOCATION:Paris
END:VEVENT
BEGIN:VEVENT
DTSTART;VALUE=DATE:20160928
DTEND;VALUE=DATE:20160929
UID:376902-20160928@calenda.revues.org
SUMMARY:The border of arts
URL:https://calenda-formation.labocleo.org/376902
DESCRIPTION:Ce colloque interdisciplinaire jette un regard sur la reconfiguration des frontières esthétiques depuis le début du XXe siècle. La porosité entre les genres et les formes — ou leur « effrangement »\, pour reprendre le mot du philosophe Theodor Adorno … @plus_info https://calenda-formation.labocleo.org/376902
LOCATION:Paris
END:VEVENT
END:VCALENDAR
