BEGIN:VCALENDAR
VERSION:2.0
PRODID:-//https://calenda-formation.labocleo.org
X-WR-CALNAME:Calenda
X-WR-TIMEZONE:Europe/Paris
CALSCALE:GREGORIAN
X-WR-CALDESC:The calendar for arts, humanities and social sciences
METHOD:PUBLISH
BEGIN:VEVENT
DTSTART;VALUE=DATE:20170301
DTEND;VALUE=DATE:20170302
UID:376997-20170301@calenda.revues.org
SUMMARY:Mixed marriages in the European societies\, 18th-21th century
URL:https://calenda-formation.labocleo.org/376997
DESCRIPTION:Les migrations contemporaines et les interrogations croissantes sur les juxtapositions de groupes religieux ou ethniques différents ont stimulé ces dernières décennies un intérêt évident pour la question de la mixité matrimoniale dans le monde d’aujo… @plus_info https://calenda-formation.labocleo.org/376997
LOCATION:Rome
END:VEVENT
END:VCALENDAR
