BEGIN:VCALENDAR
VERSION:2.0
PRODID:-//https://calenda-formation.labocleo.org
X-WR-CALNAME:Calenda
X-WR-TIMEZONE:Europe/Paris
CALSCALE:GREGORIAN
X-WR-CALDESC:Le calendrier des lettres et sciences humaines et sociales
METHOD:PUBLISH
BEGIN:VEVENT
DTSTART;VALUE=DATE:20160906
DTEND;VALUE=DATE:20160907
UID:377254-20160906@calenda.revues.org
SUMMARY:Writing histories of ancient mathematics\, reflecting on past practices and opening the future\, 18th-21st centuries
URL:https://calenda-formation.labocleo.org/377254
DESCRIPTION:Le projet European Research Coucil (ERC) « Mathematical Sciences in the Ancient Worlds » s'oriente vers la conclusion de sa troisième phase\, consacrée à l'histoire de l'historiographie des mathématiques anciennes entre les XVIIIe et XXe siècles. Comm… Más informaciones https://calenda-formation.labocleo.org/377254
LOCATION:París
END:VEVENT
BEGIN:VEVENT
DTSTART;VALUE=DATE:20160913
DTEND;VALUE=DATE:20160914
UID:377254-20160913@calenda.revues.org
SUMMARY:Writing histories of ancient mathematics\, reflecting on past practices and opening the future\, 18th-21st centuries
URL:https://calenda-formation.labocleo.org/377254
DESCRIPTION:Le projet European Research Coucil (ERC) « Mathematical Sciences in the Ancient Worlds » s'oriente vers la conclusion de sa troisième phase\, consacrée à l'histoire de l'historiographie des mathématiques anciennes entre les XVIIIe et XXe siècles. Comm… Más informaciones https://calenda-formation.labocleo.org/377254
LOCATION:París
END:VEVENT
BEGIN:VEVENT
DTSTART;VALUE=DATE:20160920
DTEND;VALUE=DATE:20160921
UID:377254-20160920@calenda.revues.org
SUMMARY:Writing histories of ancient mathematics\, reflecting on past practices and opening the future\, 18th-21st centuries
URL:https://calenda-formation.labocleo.org/377254
DESCRIPTION:Le projet European Research Coucil (ERC) « Mathematical Sciences in the Ancient Worlds » s'oriente vers la conclusion de sa troisième phase\, consacrée à l'histoire de l'historiographie des mathématiques anciennes entre les XVIIIe et XXe siècles. Comm… Más informaciones https://calenda-formation.labocleo.org/377254
LOCATION:París
END:VEVENT
BEGIN:VEVENT
DTSTART;VALUE=DATE:20160927
DTEND;VALUE=DATE:20160928
UID:377254-20160927@calenda.revues.org
SUMMARY:Writing histories of ancient mathematics\, reflecting on past practices and opening the future\, 18th-21st centuries
URL:https://calenda-formation.labocleo.org/377254
DESCRIPTION:Le projet European Research Coucil (ERC) « Mathematical Sciences in the Ancient Worlds » s'oriente vers la conclusion de sa troisième phase\, consacrée à l'histoire de l'historiographie des mathématiques anciennes entre les XVIIIe et XXe siècles. Comm… Más informaciones https://calenda-formation.labocleo.org/377254
LOCATION:París
END:VEVENT
BEGIN:VEVENT
DTSTART;VALUE=DATE:20161004
DTEND;VALUE=DATE:20161005
UID:377254-20161004@calenda.revues.org
SUMMARY:Writing histories of ancient mathematics\, reflecting on past practices and opening the future\, 18th-21st centuries
URL:https://calenda-formation.labocleo.org/377254
DESCRIPTION:Le projet European Research Coucil (ERC) « Mathematical Sciences in the Ancient Worlds » s'oriente vers la conclusion de sa troisième phase\, consacrée à l'histoire de l'historiographie des mathématiques anciennes entre les XVIIIe et XXe siècles. Comm… Más informaciones https://calenda-formation.labocleo.org/377254
LOCATION:París
END:VEVENT
BEGIN:VEVENT
DTSTART;VALUE=DATE:20161011
DTEND;VALUE=DATE:20161012
UID:377254-20161011@calenda.revues.org
SUMMARY:Writing histories of ancient mathematics\, reflecting on past practices and opening the future\, 18th-21st centuries
URL:https://calenda-formation.labocleo.org/377254
DESCRIPTION:Le projet European Research Coucil (ERC) « Mathematical Sciences in the Ancient Worlds » s'oriente vers la conclusion de sa troisième phase\, consacrée à l'histoire de l'historiographie des mathématiques anciennes entre les XVIIIe et XXe siècles. Comm… Más informaciones https://calenda-formation.labocleo.org/377254
LOCATION:París
END:VEVENT
BEGIN:VEVENT
DTSTART;VALUE=DATE:20161018
DTEND;VALUE=DATE:20161019
UID:377254-20161018@calenda.revues.org
SUMMARY:Writing histories of ancient mathematics\, reflecting on past practices and opening the future\, 18th-21st centuries
URL:https://calenda-formation.labocleo.org/377254
DESCRIPTION:Le projet European Research Coucil (ERC) « Mathematical Sciences in the Ancient Worlds » s'oriente vers la conclusion de sa troisième phase\, consacrée à l'histoire de l'historiographie des mathématiques anciennes entre les XVIIIe et XXe siècles. Comm… Más informaciones https://calenda-formation.labocleo.org/377254
LOCATION:París
END:VEVENT
END:VCALENDAR
