BEGIN:VCALENDAR
VERSION:2.0
PRODID:-//https://calenda-formation.labocleo.org
X-WR-CALNAME:Calenda
X-WR-TIMEZONE:Europe/Paris
CALSCALE:GREGORIAN
X-WR-CALDESC:Le calendrier des lettres et sciences humaines et sociales
METHOD:PUBLISH
BEGIN:VEVENT
DTSTART;VALUE=DATE:20161105
DTEND;VALUE=DATE:20161106
UID:377332-20161105@calenda.revues.org
SUMMARY:Le boulevard\, un théâtre à sortir du placard ? 
URL:https://calenda-formation.labocleo.org/377332
DESCRIPTION:Dans ce numéro\, nous entendons « théâtre de boulevard » dans un sens large\, en prenant en considération les spectacles inscrits dans cette catégorie ou qui s’en réclament ainsi que les lieux où ces spectacles sont joués. Les études pourront porter su… Weitere Informationen https://calenda-formation.labocleo.org/377332
LOCATION:Nizza
END:VEVENT
END:VCALENDAR
