BEGIN:VCALENDAR
VERSION:2.0
PRODID:-//https://calenda-formation.labocleo.org
X-WR-CALNAME:Calenda
X-WR-TIMEZONE:Europe/Paris
CALSCALE:GREGORIAN
X-WR-CALDESC:Le calendrier des lettres et sciences humaines et sociales
METHOD:PUBLISH
BEGIN:VEVENT
DTSTART;VALUE=DATE:20161026
DTEND;VALUE=DATE:20161027
UID:377437-20161026@calenda.revues.org
SUMMARY:Villes en sous-sol. Pour une transition à la durabilité des espaces urbains : l'option de la ville souterraine ?
URL:https://calenda-formation.labocleo.org/377437
DESCRIPTION:Ces sixièmes rencontres internationales de Reims en sciences de la durabilité questionnent l’habitabilité des espaces souterrains et leur capacité à contribuer à la transition à la durabilité des villes. La troisième dimension de la ville concerne\, p… @plus_info https://calenda-formation.labocleo.org/377437
LOCATION:Reims
END:VEVENT
BEGIN:VEVENT
DTSTART;VALUE=DATE:20161027
DTEND;VALUE=DATE:20161028
UID:377437-20161027@calenda.revues.org
SUMMARY:Villes en sous-sol. Pour une transition à la durabilité des espaces urbains : l'option de la ville souterraine ?
URL:https://calenda-formation.labocleo.org/377437
DESCRIPTION:Ces sixièmes rencontres internationales de Reims en sciences de la durabilité questionnent l’habitabilité des espaces souterrains et leur capacité à contribuer à la transition à la durabilité des villes. La troisième dimension de la ville concerne\, p… @plus_info https://calenda-formation.labocleo.org/377437
LOCATION:Reims
END:VEVENT
END:VCALENDAR
