BEGIN:VCALENDAR
VERSION:2.0
PRODID:-//https://calenda-formation.labocleo.org
X-WR-CALNAME:Calenda
X-WR-TIMEZONE:Europe/Paris
CALSCALE:GREGORIAN
X-WR-CALDESC:The calendar for arts, humanities and social sciences
METHOD:PUBLISH
BEGIN:VEVENT
DTSTART;VALUE=DATE:20161015
DTEND;VALUE=DATE:20161016
UID:377469-20161015@calenda.revues.org
SUMMARY:Introduction to the history of the Middle East from 1876 to 1980: sources\, historiography\, fundamental issues
URL:https://calenda-formation.labocleo.org/377469
DESCRIPTION:L’Association des historiens contemporanéistes de l’enseignement supérieur et de la recherche organise une journée d’étude consacrée à l’histoire du Moyen Orient de 1876 à 1980 (sources\, historiographie\, enjeux fondamentaux) en vue de la préparation … @plus_info https://calenda-formation.labocleo.org/377469
LOCATION:Paris
END:VEVENT
END:VCALENDAR
