BEGIN:VCALENDAR
VERSION:2.0
PRODID:-//https://calenda-formation.labocleo.org
X-WR-CALNAME:Calenda
X-WR-TIMEZONE:Europe/Paris
CALSCALE:GREGORIAN
X-WR-CALDESC:The calendar for arts, humanities and social sciences
METHOD:PUBLISH
BEGIN:VEVENT
DTSTART;VALUE=DATE:20170217
DTEND;VALUE=DATE:20170218
UID:377741-20170217@calenda.revues.org
SUMMARY:The media\, power and gender
URL:https://calenda-formation.labocleo.org/377741
DESCRIPTION:Le séminaire « Médias\, pouvoirs et genre » a vocation à présenter des travaux de recherches croisant les études communicationnelles\, notamment médiatiques\, les études socio-politiques et la question du genre. Cette dernière investit l'ensemble des pr… @plus_info https://calenda-formation.labocleo.org/377741
LOCATION:Nice
END:VEVENT
BEGIN:VEVENT
DTSTART;VALUE=DATE:20170421
DTEND;VALUE=DATE:20170422
UID:377741-20170421@calenda.revues.org
SUMMARY:The media\, power and gender
URL:https://calenda-formation.labocleo.org/377741
DESCRIPTION:Le séminaire « Médias\, pouvoirs et genre » a vocation à présenter des travaux de recherches croisant les études communicationnelles\, notamment médiatiques\, les études socio-politiques et la question du genre. Cette dernière investit l'ensemble des pr… @plus_info https://calenda-formation.labocleo.org/377741
LOCATION:Nice
END:VEVENT
BEGIN:VEVENT
DTSTART;VALUE=DATE:20170616
DTEND;VALUE=DATE:20170617
UID:377741-20170616@calenda.revues.org
SUMMARY:The media\, power and gender
URL:https://calenda-formation.labocleo.org/377741
DESCRIPTION:Le séminaire « Médias\, pouvoirs et genre » a vocation à présenter des travaux de recherches croisant les études communicationnelles\, notamment médiatiques\, les études socio-politiques et la question du genre. Cette dernière investit l'ensemble des pr… @plus_info https://calenda-formation.labocleo.org/377741
LOCATION:Nice
END:VEVENT
END:VCALENDAR
