BEGIN:VCALENDAR
VERSION:2.0
PRODID:-//https://calenda-formation.labocleo.org
X-WR-CALNAME:Calenda
X-WR-TIMEZONE:Europe/Paris
CALSCALE:GREGORIAN
X-WR-CALDESC:The calendar for arts, humanities and social sciences
METHOD:PUBLISH
BEGIN:VEVENT
DTSTART;VALUE=DATE:20161220
DTEND;VALUE=DATE:20161221
UID:378225-20161220@calenda.revues.org
SUMMARY:Technologies in education and training - innovations and practices
URL:https://calenda-formation.labocleo.org/378225
DESCRIPTION:La faculté des sciences de l’éducation à l’université Mohammed V de Rabat organise les 22\, 23 et 24 Mars 2017  le premier  colloque international sur les technologies en éducation et formation : innovations et pratiques. Ce colloque a pour objectif d… @plus_info https://calenda-formation.labocleo.org/378225
LOCATION:Rabat
END:VEVENT
END:VCALENDAR
