BEGIN:VCALENDAR
VERSION:2.0
PRODID:-//https://calenda-formation.labocleo.org
X-WR-CALNAME:Calenda
X-WR-TIMEZONE:Europe/Paris
CALSCALE:GREGORIAN
X-WR-CALDESC:Le calendrier des lettres et sciences humaines et sociales
METHOD:PUBLISH
BEGIN:VEVENT
DTSTART;VALUE=DATE:20161116
DTEND;VALUE=DATE:20161117
UID:378601-20161116@calenda.revues.org
SUMMARY:Transferts\, circulations et réseaux savants franco-allemands au XVIIIe siècle
URL:https://calenda-formation.labocleo.org/378601
DESCRIPTION:Proposée il y a trente ans par Michel Espagne et Michael Werner\, la notion de « transferts culturels » entendait dépasser le comparatisme\, dont ils condamnaient le caractère statique et clos\, pour envisager les transformations subies par tout bien cu… @plus_info https://calenda-formation.labocleo.org/378601
LOCATION:Fribourg
END:VEVENT
BEGIN:VEVENT
DTSTART;VALUE=DATE:20161118
DTEND;VALUE=DATE:20161119
UID:378601-20161118@calenda.revues.org
SUMMARY:Transferts\, circulations et réseaux savants franco-allemands au XVIIIe siècle
URL:https://calenda-formation.labocleo.org/378601
DESCRIPTION:Proposée il y a trente ans par Michel Espagne et Michael Werner\, la notion de « transferts culturels » entendait dépasser le comparatisme\, dont ils condamnaient le caractère statique et clos\, pour envisager les transformations subies par tout bien cu… @plus_info https://calenda-formation.labocleo.org/378601
LOCATION:Fribourg
END:VEVENT
BEGIN:VEVENT
DTSTART;VALUE=DATE:20161117
DTEND;VALUE=DATE:20161118
UID:378601-20161117@calenda.revues.org
SUMMARY:Transferts\, circulations et réseaux savants franco-allemands au XVIIIe siècle
URL:https://calenda-formation.labocleo.org/378601
DESCRIPTION:Proposée il y a trente ans par Michel Espagne et Michael Werner\, la notion de « transferts culturels » entendait dépasser le comparatisme\, dont ils condamnaient le caractère statique et clos\, pour envisager les transformations subies par tout bien cu… @plus_info https://calenda-formation.labocleo.org/378601
LOCATION:Fribourg
END:VEVENT
END:VCALENDAR
