BEGIN:VCALENDAR
VERSION:2.0
PRODID:-//https://calenda-formation.labocleo.org
X-WR-CALNAME:Calenda
X-WR-TIMEZONE:Europe/Paris
CALSCALE:GREGORIAN
X-WR-CALDESC:Le calendrier des lettres et sciences humaines et sociales
METHOD:PUBLISH
BEGIN:VEVENT
DTSTART;VALUE=DATE:20161115
DTEND;VALUE=DATE:20161116
UID:378916-20161115@calenda.revues.org
SUMMARY:Troisième conférence internationale d'histoire et des cultures de l'alimentation
URL:https://calenda-formation.labocleo.org/378916
DESCRIPTION:L’Institut européen d’histoire et des cultures de l’alimentation (IEHCA) organise la troisième édition de sa conférence internationale. Toutes les propositions relevant des Food Studies et tous les chercheurs seront les bienvenus. Ce symposium est pa… Weitere Informationen https://calenda-formation.labocleo.org/378916
LOCATION:Tours
END:VEVENT
END:VCALENDAR
