BEGIN:VCALENDAR
VERSION:2.0
PRODID:-//https://calenda-formation.labocleo.org
X-WR-CALNAME:Calenda
X-WR-TIMEZONE:Europe/Paris
CALSCALE:GREGORIAN
X-WR-CALDESC:Le calendrier des lettres et sciences humaines et sociales
METHOD:PUBLISH
BEGIN:VEVENT
DTSTART;VALUE=DATE:20161024
DTEND;VALUE=DATE:20161025
UID:378957-20161024@calenda.revues.org
SUMMARY:Le parcours en question : comprendre les tensions entre les logiques individuelles\, collectives et institutionnelles
URL:https://calenda-formation.labocleo.org/378957
DESCRIPTION:Ce colloque propose d’interroger le concept de « parcours » dans nos sociétés contemporaines. Il vise à montrer dans quelle mesure le parcours\, en tant qu’outil conceptuel renouvelle l’analyse des biographies\, des expériences éprouvées par les indivi… Weitere Informationen https://calenda-formation.labocleo.org/378957
LOCATION:Paris
END:VEVENT
END:VCALENDAR
