BEGIN:VCALENDAR
VERSION:2.0
PRODID:-//https://calenda-formation.labocleo.org
X-WR-CALNAME:Calenda
X-WR-TIMEZONE:Europe/Paris
CALSCALE:GREGORIAN
X-WR-CALDESC:The calendar for arts, humanities and social sciences
METHOD:PUBLISH
BEGIN:VEVENT
DTSTART;VALUE=DATE:20170331
DTEND;VALUE=DATE:20170401
UID:379079-20170331@calenda.revues.org
SUMMARY:Big Data and social protection
URL:https://calenda-formation.labocleo.org/379079
DESCRIPTION:La société contemporaine connaît de rapides changements dont l’un des traits distinctifs est la numérisation de la plupart des secteurs d’activité. Cette numérisation s’accompagne du développement des activités de réseau\, qui génèrent des données tou… @plus_info https://calenda-formation.labocleo.org/379079
LOCATION:Paris
END:VEVENT
END:VCALENDAR
