BEGIN:VCALENDAR
VERSION:2.0
PRODID:-//https://calenda-formation.labocleo.org
X-WR-CALNAME:Calenda
X-WR-TIMEZONE:Europe/Paris
CALSCALE:GREGORIAN
X-WR-CALDESC:The calendar for arts, humanities and social sciences
METHOD:PUBLISH
BEGIN:VEVENT
DTSTART;VALUE=DATE:20161014
DTEND;VALUE=DATE:20161015
UID:379112-20161014@calenda.revues.org
SUMMARY:Thinking food tomorrow
URL:https://calenda-formation.labocleo.org/379112
DESCRIPTION:De quoi parle-t-on exactement lorsqu’on manipule les termes de « nature » et de « bio » dans l’alimentation ? On pourrait penser la question réglée par l’évidence d’usages courants. Or\, le message ne cesse de se brouiller et depuis l’invention de la … @plus_info https://calenda-formation.labocleo.org/379112
LOCATION:Paris
END:VEVENT
END:VCALENDAR
