BEGIN:VCALENDAR
VERSION:2.0
PRODID:-//https://calenda-formation.labocleo.org
X-WR-CALNAME:Calenda
X-WR-TIMEZONE:Europe/Paris
CALSCALE:GREGORIAN
X-WR-CALDESC:O calendário de letras e de ciências sociais e humanas
METHOD:PUBLISH
BEGIN:VEVENT
DTSTART;VALUE=DATE:20161013
DTEND;VALUE=DATE:20161014
UID:379307-20161013@calenda.revues.org
SUMMARY:Âme d'une communauté et communauté d'âmes
URL:https://calenda-formation.labocleo.org/379307
DESCRIPTION:En collaboration avec Simon Fraser University et plusieurs ordres religieux qui ont joué un rôle fondateur dans l’histoire de Montréal\, le Collectif d’anthropologie et d’histoire du spirituel sous l’ancien régime (CAHSA) organise des journées d’étude… @plus_info https://calenda-formation.labocleo.org/379307
LOCATION:Montreal
END:VEVENT
BEGIN:VEVENT
DTSTART;VALUE=DATE:20161014
DTEND;VALUE=DATE:20161015
UID:379307-20161014@calenda.revues.org
SUMMARY:Âme d'une communauté et communauté d'âmes
URL:https://calenda-formation.labocleo.org/379307
DESCRIPTION:En collaboration avec Simon Fraser University et plusieurs ordres religieux qui ont joué un rôle fondateur dans l’histoire de Montréal\, le Collectif d’anthropologie et d’histoire du spirituel sous l’ancien régime (CAHSA) organise des journées d’étude… @plus_info https://calenda-formation.labocleo.org/379307
LOCATION:Montreal
END:VEVENT
BEGIN:VEVENT
DTSTART;VALUE=DATE:20161015
DTEND;VALUE=DATE:20161016
UID:379307-20161015@calenda.revues.org
SUMMARY:Âme d'une communauté et communauté d'âmes
URL:https://calenda-formation.labocleo.org/379307
DESCRIPTION:En collaboration avec Simon Fraser University et plusieurs ordres religieux qui ont joué un rôle fondateur dans l’histoire de Montréal\, le Collectif d’anthropologie et d’histoire du spirituel sous l’ancien régime (CAHSA) organise des journées d’étude… @plus_info https://calenda-formation.labocleo.org/379307
LOCATION:Montreal
END:VEVENT
END:VCALENDAR
