BEGIN:VCALENDAR
VERSION:2.0
PRODID:-//https://calenda-formation.labocleo.org
X-WR-CALNAME:Calenda
X-WR-TIMEZONE:Europe/Paris
CALSCALE:GREGORIAN
X-WR-CALDESC:Le calendrier des lettres et sciences humaines et sociales
METHOD:PUBLISH
BEGIN:VEVENT
DTSTART;VALUE=DATE:20161212
DTEND;VALUE=DATE:20161213
UID:379331-20161212@calenda.revues.org
SUMMARY:Manger\, boire\, parer\, parfumer pour l'éternité
URL:https://calenda-formation.labocleo.org/379331
DESCRIPTION:Depuis sa fondation\, la vie du Groupe d'anthropologie et d'archéologie funéraire (Gaaf) est rythmée par l’organisation d’une rencontre thématique annuelle. En parallèle de ces colloques\, l’association invite désormais ses membres et ses sympathisants… Weitere Informationen https://calenda-formation.labocleo.org/379331
LOCATION:Lorient
END:VEVENT
END:VCALENDAR
