BEGIN:VCALENDAR
VERSION:2.0
PRODID:-//https://calenda-formation.labocleo.org
X-WR-CALNAME:Calenda
X-WR-TIMEZONE:Europe/Paris
CALSCALE:GREGORIAN
X-WR-CALDESC:Le calendrier des lettres et sciences humaines et sociales
METHOD:PUBLISH
BEGIN:VEVENT
DTSTART;VALUE=DATE:20161006
DTEND;VALUE=DATE:20161007
UID:379362-20161006@calenda.revues.org
SUMMARY:Les représentations de la cinéphilie dans les productions cinématographiques et audiovisuelles
URL:https://calenda-formation.labocleo.org/379362
DESCRIPTION:Ce colloque entend dresser un panorama des représentations offertes par les productions cinématographiques et audiovisuelles sur le phénomène de la cinéphilie. Par représentation\, nous entendons ici la manière dont le film rend compte\, intentionnelle… @plus_info https://calenda-formation.labocleo.org/379362
LOCATION:Nice
END:VEVENT
BEGIN:VEVENT
DTSTART;VALUE=DATE:20161007
DTEND;VALUE=DATE:20161008
UID:379362-20161007@calenda.revues.org
SUMMARY:Les représentations de la cinéphilie dans les productions cinématographiques et audiovisuelles
URL:https://calenda-formation.labocleo.org/379362
DESCRIPTION:Ce colloque entend dresser un panorama des représentations offertes par les productions cinématographiques et audiovisuelles sur le phénomène de la cinéphilie. Par représentation\, nous entendons ici la manière dont le film rend compte\, intentionnelle… @plus_info https://calenda-formation.labocleo.org/379362
LOCATION:Nice
END:VEVENT
END:VCALENDAR
