BEGIN:VCALENDAR
VERSION:2.0
PRODID:-//https://calenda-formation.labocleo.org
X-WR-CALNAME:Calenda
X-WR-TIMEZONE:Europe/Paris
CALSCALE:GREGORIAN
X-WR-CALDESC:The calendar for arts, humanities and social sciences
METHOD:PUBLISH
BEGIN:VEVENT
DTSTART;VALUE=DATE:20161118
DTEND;VALUE=DATE:20161119
UID:380002-20161118@calenda.revues.org
SUMMARY:The history of the economy without work - finances\, investment and speculation from Antiquity to the present day
URL:https://calenda-formation.labocleo.org/380002
DESCRIPTION:L’ « économie sans travail »\, à savoir la masse d’opérations financières rémunératrices ni du travail humain ni d’un échange de biens\, a aujourd’hui un impact extraordinaire sur l’agencement socio-économique contemporain. Les outils juridiques de cet… @plus_info https://calenda-formation.labocleo.org/380002
LOCATION:Lille
END:VEVENT
END:VCALENDAR
