BEGIN:VCALENDAR
VERSION:2.0
PRODID:-//https://calenda-formation.labocleo.org
X-WR-CALNAME:Calenda
X-WR-TIMEZONE:Europe/Paris
CALSCALE:GREGORIAN
X-WR-CALDESC:Le calendrier des lettres et sciences humaines et sociales
METHOD:PUBLISH
BEGIN:VEVENT
DTSTART;VALUE=DATE:20170131
DTEND;VALUE=DATE:20170201
UID:380327-20170131@calenda.revues.org
SUMMARY:Pour une histoire des arts d’Afrique pré-contemporains : méthodologie\, historiographie\, épistémologie
URL:https://calenda-formation.labocleo.org/380327
DESCRIPTION:Les musées présentant des objets africains se multiplient dans le monde et les expositions font florès tout autant qu’elles masquent l’indigence de la recherche en histoire des arts de l’Afrique pré-contemporaine. Si l’histoire de l’Afrique ancienne … Más informaciones https://calenda-formation.labocleo.org/380327
LOCATION:
END:VEVENT
END:VCALENDAR
