BEGIN:VCALENDAR
VERSION:2.0
PRODID:-//https://calenda-formation.labocleo.org
X-WR-CALNAME:Calenda
X-WR-TIMEZONE:Europe/Paris
CALSCALE:GREGORIAN
X-WR-CALDESC:Le calendrier des lettres et sciences humaines et sociales
METHOD:PUBLISH
BEGIN:VEVENT
DTSTART;VALUE=DATE:20161020
DTEND;VALUE=DATE:20161021
UID:380380-20161020@calenda.revues.org
SUMMARY:Assises de l'anthropologie de la Chine en France
URL:https://calenda-formation.labocleo.org/380380
DESCRIPTION:Envisagé comme une vitrine des recherches en anthropologie et en ethnologie de la Chine en langue française\, ce colloque a pour objet de réunir la communauté en plein essor des anthropologues français et francophones spécialistes du monde chinois. Il… Más informaciones https://calenda-formation.labocleo.org/380380
LOCATION:París
END:VEVENT
END:VCALENDAR
