BEGIN:VCALENDAR
VERSION:2.0
PRODID:-//https://calenda-formation.labocleo.org
X-WR-CALNAME:Calenda
X-WR-TIMEZONE:Europe/Paris
CALSCALE:GREGORIAN
X-WR-CALDESC:O calendário de letras e de ciências sociais e humanas
METHOD:PUBLISH
BEGIN:VEVENT
DTSTART;VALUE=DATE:20161107
DTEND;VALUE=DATE:20161108
UID:380697-20161107@calenda.revues.org
SUMMARY:Engagements pratiques et dimensions socio-spatiales de l'avenir post-pétrole
URL:https://calenda-formation.labocleo.org/380697
DESCRIPTION:Le colloque réunira un panel d’experts variés\, des scientifiques\, sociologues\, praticiens et institutionnels qui couvriront les aspects sociétaux des visions futures de l’énergie et l’introduction de l’hydrogène et des piles combustibles dans l’arène… @plus_info https://calenda-formation.labocleo.org/380697
LOCATION:Tours
END:VEVENT
BEGIN:VEVENT
DTSTART;VALUE=DATE:20161108
DTEND;VALUE=DATE:20161109
UID:380697-20161108@calenda.revues.org
SUMMARY:Engagements pratiques et dimensions socio-spatiales de l'avenir post-pétrole
URL:https://calenda-formation.labocleo.org/380697
DESCRIPTION:Le colloque réunira un panel d’experts variés\, des scientifiques\, sociologues\, praticiens et institutionnels qui couvriront les aspects sociétaux des visions futures de l’énergie et l’introduction de l’hydrogène et des piles combustibles dans l’arène… @plus_info https://calenda-formation.labocleo.org/380697
LOCATION:Tours
END:VEVENT
END:VCALENDAR
