BEGIN:VCALENDAR
VERSION:2.0
PRODID:-//https://calenda-formation.labocleo.org
X-WR-CALNAME:Calenda
X-WR-TIMEZONE:Europe/Paris
CALSCALE:GREGORIAN
X-WR-CALDESC:The calendar for arts, humanities and social sciences
METHOD:PUBLISH
BEGIN:VEVENT
DTSTART;VALUE=DATE:20161125
DTEND;VALUE=DATE:20161126
UID:380876-20161125@calenda.revues.org
SUMMARY:Sporting practices and physical education in the digital era: from tools to the transformation of the relationship to bodies\, others\, space and time
URL:https://calenda-formation.labocleo.org/380876
DESCRIPTION:Smartphones\, tablettes\, internet\, ordinateurs...\, le numérique envahit notre quotidien. Le numérique s’impose aussi bien dans le sport de haut niveau\, que dans les pratiques de loisirs ou dans les services sportifs de santé et de rééducation. En mili… @plus_info https://calenda-formation.labocleo.org/380876
LOCATION:Mérignac
END:VEVENT
BEGIN:VEVENT
DTSTART;VALUE=DATE:20161126
DTEND;VALUE=DATE:20161127
UID:380876-20161126@calenda.revues.org
SUMMARY:Sporting practices and physical education in the digital era: from tools to the transformation of the relationship to bodies\, others\, space and time
URL:https://calenda-formation.labocleo.org/380876
DESCRIPTION:Smartphones\, tablettes\, internet\, ordinateurs...\, le numérique envahit notre quotidien. Le numérique s’impose aussi bien dans le sport de haut niveau\, que dans les pratiques de loisirs ou dans les services sportifs de santé et de rééducation. En mili… @plus_info https://calenda-formation.labocleo.org/380876
LOCATION:Mérignac
END:VEVENT
END:VCALENDAR
