BEGIN:VCALENDAR
VERSION:2.0
PRODID:-//https://calenda-formation.labocleo.org
X-WR-CALNAME:Calenda
X-WR-TIMEZONE:Europe/Paris
CALSCALE:GREGORIAN
X-WR-CALDESC:Le calendrier des lettres et sciences humaines et sociales
METHOD:PUBLISH
BEGIN:VEVENT
DTSTART;VALUE=DATE:20161110
DTEND;VALUE=DATE:20161111
UID:381052-20161110@calenda.revues.org
SUMMARY:Les manuscrits de Saussure\, parmi d’autres
URL:https://calenda-formation.labocleo.org/381052
DESCRIPTION:   À partir de la mise en œuvre d’un projet d’édition numérique des manuscrits de Ferdinand de Saussure – entreprise qui engage les efforts de plusieurs acteurs (Centre universitaire d’informatique de l’université de genève\, Bibliothèque de Genève\, C… Más informaciones https://calenda-formation.labocleo.org/381052
LOCATION:Ginebra
END:VEVENT
END:VCALENDAR
