BEGIN:VCALENDAR
VERSION:2.0
PRODID:-//https://calenda-formation.labocleo.org
X-WR-CALNAME:Calenda
X-WR-TIMEZONE:Europe/Paris
CALSCALE:GREGORIAN
X-WR-CALDESC:Le calendrier des lettres et sciences humaines et sociales
METHOD:PUBLISH
BEGIN:VEVENT
DTSTART;VALUE=DATE:20161231
DTEND;VALUE=DATE:20170101
UID:381199-20161231@calenda.revues.org
SUMMARY:L’équipement des véhicules dans l’Antiquité et au Moyen Âge
URL:https://calenda-formation.labocleo.org/381199
DESCRIPTION:Les prochaines rencontres Instrumentum se dérouleront en Arles les 13-17 juin 2017\, au musée départemental de l’Arles antique. Ces rencontres ont pour thématique les modes de transports dans l’Antiquité et au Moyen Âge et porteront en particulier sur… Más informaciones https://calenda-formation.labocleo.org/381199
LOCATION:Arles
END:VEVENT
END:VCALENDAR
