BEGIN:VCALENDAR
VERSION:2.0
PRODID:-//https://calenda-formation.labocleo.org
X-WR-CALNAME:Calenda
X-WR-TIMEZONE:Europe/Paris
CALSCALE:GREGORIAN
X-WR-CALDESC:The calendar for arts, humanities and social sciences
METHOD:PUBLISH
BEGIN:VEVENT
DTSTART;VALUE=DATE:20161215
DTEND;VALUE=DATE:20161216
UID:381388-20161215@calenda.revues.org
SUMMARY:Changing the world - urban experimentation in the United Kingdom (19th-21st centuries)
URL:https://calenda-formation.labocleo.org/381388
DESCRIPTION:Le Royaume-Uni offre depuis longtemps un terreau fertile pour les utopies et expérimentations urbaines. De Utopia de Thomas More en 1516 aux New Towns des années 1950 et 1960 en passant par News from Nowhere de William Morris en 1890\, la société brit… @plus_info https://calenda-formation.labocleo.org/381388
LOCATION:Paris
END:VEVENT
END:VCALENDAR
