BEGIN:VCALENDAR
VERSION:2.0
PRODID:-//https://calenda-formation.labocleo.org
X-WR-CALNAME:Calenda
X-WR-TIMEZONE:Europe/Paris
CALSCALE:GREGORIAN
X-WR-CALDESC:The calendar for arts, humanities and social sciences
METHOD:PUBLISH
BEGIN:VEVENT
DTSTART;VALUE=DATE:20170103
DTEND;VALUE=DATE:20170104
UID:381480-20170103@calenda.revues.org
SUMMARY:First conference for doctoral students and post-doc researchers in pre-Roman Italy (14th-6th centuries BC)
URL:https://calenda-formation.labocleo.org/381480
DESCRIPTION:En réunissant les doctorants et jeunes docteurs – rattachés\, ou ayant été rattachés\, à une institution française – dont les travaux portent sur l’Italie préromaine (la péninsule et ses îles)\, entre l’âge du Bronze récent et le début de la romanisatio… @plus_info https://calenda-formation.labocleo.org/381480
LOCATION:Paris
END:VEVENT
END:VCALENDAR
