BEGIN:VCALENDAR
VERSION:2.0
PRODID:-//https://calenda-formation.labocleo.org
X-WR-CALNAME:Calenda
X-WR-TIMEZONE:Europe/Paris
CALSCALE:GREGORIAN
X-WR-CALDESC:Le calendrier des lettres et sciences humaines et sociales
METHOD:PUBLISH
BEGIN:VEVENT
DTSTART;VALUE=DATE:20161109
DTEND;VALUE=DATE:20161110
UID:381633-20161109@calenda.revues.org
SUMMARY:L’enfance sous l’Ancien Régime (XVIe-XVIIIe siècle)
URL:https://calenda-formation.labocleo.org/381633
DESCRIPTION:La Renaissance offre les prémisses d’une réflexion sur la nature de l’enfance\, notamment chez Érasme qui affirme\, dans De pueris instituendis (1529)\, la « nécessité de s’intéresser au petit enfant dès sa naissance et énonce des recommandations concer… Weitere Informationen https://calenda-formation.labocleo.org/381633
LOCATION:Créteil
END:VEVENT
BEGIN:VEVENT
DTSTART;VALUE=DATE:20161110
DTEND;VALUE=DATE:20161111
UID:381633-20161110@calenda.revues.org
SUMMARY:L’enfance sous l’Ancien Régime (XVIe-XVIIIe siècle)
URL:https://calenda-formation.labocleo.org/381633
DESCRIPTION:La Renaissance offre les prémisses d’une réflexion sur la nature de l’enfance\, notamment chez Érasme qui affirme\, dans De pueris instituendis (1529)\, la « nécessité de s’intéresser au petit enfant dès sa naissance et énonce des recommandations concer… Weitere Informationen https://calenda-formation.labocleo.org/381633
LOCATION:Créteil
END:VEVENT
END:VCALENDAR
