BEGIN:VCALENDAR
VERSION:2.0
PRODID:-//https://calenda-formation.labocleo.org
X-WR-CALNAME:Calenda
X-WR-TIMEZONE:Europe/Paris
CALSCALE:GREGORIAN
X-WR-CALDESC:The calendar for arts, humanities and social sciences
METHOD:PUBLISH
BEGIN:VEVENT
DTSTART;VALUE=DATE:20161118
DTEND;VALUE=DATE:20161119
UID:381654-20161118@calenda.revues.org
SUMMARY:The New Testament in Syriac
URL:https://calenda-formation.labocleo.org/381654
DESCRIPTION:La société d’études syriaques organise chaque année une table ronde thématique à l’intention de ses membres\, des syriacisants français et étrangers\, et de tous ceux  qui sont intéressés par les cultures syriaques en Orient\, en Asie et en Occident. … @plus_info https://calenda-formation.labocleo.org/381654
LOCATION:Paris 14 Observatoire
END:VEVENT
END:VCALENDAR
