BEGIN:VCALENDAR
VERSION:2.0
PRODID:-//https://calenda-formation.labocleo.org
X-WR-CALNAME:Calenda
X-WR-TIMEZONE:Europe/Paris
CALSCALE:GREGORIAN
X-WR-CALDESC:Le calendrier des lettres et sciences humaines et sociales
METHOD:PUBLISH
BEGIN:VEVENT
DTSTART;VALUE=DATE:20161124
DTEND;VALUE=DATE:20161125
UID:381751-20161124@calenda.revues.org
SUMMARY:Décor et architecture (XVIIe-XVIIIe siècles) : entre union et séparation des arts
URL:https://calenda-formation.labocleo.org/381751
DESCRIPTION:Le décor\, à la période moderne\, est considéré comme l’une des parties fondamentales de l’architecture. Grâce à lui\, celle-ci se distingue de la simple maçonnerie et peut revendiquer une forme d’excellence. Dans une telle perspective\, le décor est une… @plus_info https://calenda-formation.labocleo.org/381751
LOCATION:Lausanne
END:VEVENT
BEGIN:VEVENT
DTSTART;VALUE=DATE:20161125
DTEND;VALUE=DATE:20161126
UID:381751-20161125@calenda.revues.org
SUMMARY:Décor et architecture (XVIIe-XVIIIe siècles) : entre union et séparation des arts
URL:https://calenda-formation.labocleo.org/381751
DESCRIPTION:Le décor\, à la période moderne\, est considéré comme l’une des parties fondamentales de l’architecture. Grâce à lui\, celle-ci se distingue de la simple maçonnerie et peut revendiquer une forme d’excellence. Dans une telle perspective\, le décor est une… @plus_info https://calenda-formation.labocleo.org/381751
LOCATION:Lausanne
END:VEVENT
END:VCALENDAR
