BEGIN:VCALENDAR
VERSION:2.0
PRODID:-//https://calenda-formation.labocleo.org
X-WR-CALNAME:Calenda
X-WR-TIMEZONE:Europe/Paris
CALSCALE:GREGORIAN
X-WR-CALDESC:Le calendrier des lettres et sciences humaines et sociales
METHOD:PUBLISH
BEGIN:VEVENT
DTSTART;VALUE=DATE:20161110
DTEND;VALUE=DATE:20161111
UID:381819-20161110@calenda.revues.org
SUMMARY:Think clean
URL:https://calenda-formation.labocleo.org/381819
DESCRIPTION:El V Congreso Internacional «Deporte\, Dopaje y Sociedad» está organizado conjuntamente por la Universidad Politécnica de Madrid y la Agencia Española de Protección de la Salud en el Deporte. Bajo el lema Think Clean\, se pretende la puesta en comu… Más informaciones https://calenda-formation.labocleo.org/381819
LOCATION:Madrid
END:VEVENT
END:VCALENDAR
