BEGIN:VCALENDAR
VERSION:2.0
PRODID:-//https://calenda-formation.labocleo.org
X-WR-CALNAME:Calenda
X-WR-TIMEZONE:Europe/Paris
CALSCALE:GREGORIAN
X-WR-CALDESC:O calendário de letras e de ciências sociais e humanas
METHOD:PUBLISH
BEGIN:VEVENT
DTSTART;VALUE=DATE:20161201
DTEND;VALUE=DATE:20161202
UID:382001-20161201@calenda.revues.org
SUMMARY:La résistance au Moyen Âge 
URL:https://calenda-formation.labocleo.org/382001
DESCRIPTION:Alors que la notion de résistance\, parfois déclinée au pluriel\, fleurit dans les travaux des chercheurs en sciences humaines\, elle n’a pas encore fait l’objet d’une véritable attention de la part des médiévistes\, hormis dans quelques travaux consacré… @plus_info https://calenda-formation.labocleo.org/382001
LOCATION:Paris
END:VEVENT
END:VCALENDAR
