BEGIN:VCALENDAR
VERSION:2.0
PRODID:-//https://calenda-formation.labocleo.org
X-WR-CALNAME:Calenda
X-WR-TIMEZONE:Europe/Paris
CALSCALE:GREGORIAN
X-WR-CALDESC:O calendário de letras e de ciências sociais e humanas
METHOD:PUBLISH
BEGIN:VEVENT
DTSTART;VALUE=DATE:20161214
DTEND;VALUE=DATE:20161215
UID:382367-20161214@calenda.revues.org
SUMMARY:Mutantes / vampires
URL:https://calenda-formation.labocleo.org/382367
DESCRIPTION:Ce colloque entend dresser un bilan scientifique de l’apport de Virginie Despentes et de Paul Beatriz Preciado à la littérature et aux pensées féministes. En dépit de la popularité de ces auteur·e·s\, aucune journée d’étude ni aucun colloque les conce… @plus_info https://calenda-formation.labocleo.org/382367
LOCATION:Saint-Denis
END:VEVENT
BEGIN:VEVENT
DTSTART;VALUE=DATE:20161215
DTEND;VALUE=DATE:20161216
UID:382367-20161215@calenda.revues.org
SUMMARY:Mutantes / vampires
URL:https://calenda-formation.labocleo.org/382367
DESCRIPTION:Ce colloque entend dresser un bilan scientifique de l’apport de Virginie Despentes et de Paul Beatriz Preciado à la littérature et aux pensées féministes. En dépit de la popularité de ces auteur·e·s\, aucune journée d’étude ni aucun colloque les conce… @plus_info https://calenda-formation.labocleo.org/382367
LOCATION:Saint-Denis
END:VEVENT
END:VCALENDAR
