BEGIN:VCALENDAR
VERSION:2.0
PRODID:-//https://calenda-formation.labocleo.org
X-WR-CALNAME:Calenda
X-WR-TIMEZONE:Europe/Paris
CALSCALE:GREGORIAN
X-WR-CALDESC:Le calendrier des lettres et sciences humaines et sociales
METHOD:PUBLISH
BEGIN:VEVENT
DTSTART;VALUE=DATE:20170430
DTEND;VALUE=DATE:20170501
UID:382736-20170430@calenda.revues.org
SUMMARY:Les lieux complexes\, partagés entre fonctions\, usages\, symboliques\, identifications et appropriations différenciées
URL:https://calenda-formation.labocleo.org/382736
DESCRIPTION:Nombre de lieux et de sites dans le monde associent en un même emplacement\, simultanément ou successivement\, de manière partagée\, des fonctions multiples. En un même lieu\, nous privilégierons une ou plusieurs fonctions centrales\, d’ordre culturel\, re… Weitere Informationen https://calenda-formation.labocleo.org/382736
LOCATION:Sfax
END:VEVENT
END:VCALENDAR
