BEGIN:VCALENDAR
VERSION:2.0
PRODID:-//https://calenda-formation.labocleo.org
X-WR-CALNAME:Calenda
X-WR-TIMEZONE:Europe/Paris
CALSCALE:GREGORIAN
X-WR-CALDESC:Le calendrier des lettres et sciences humaines et sociales
METHOD:PUBLISH
BEGIN:VEVENT
DTSTART;VALUE=DATE:20161215
DTEND;VALUE=DATE:20161216
UID:382774-20161215@calenda.revues.org
SUMMARY:Déprises d’enclaves touristiques et sorties du tourisme
URL:https://calenda-formation.labocleo.org/382774
DESCRIPTION:Ce séminaire cherchera à appréhender les « sorties du tourisme »\, entre crise et recomposition. Il examinera et analysera les causes des sorties du tourisme (causes exogènes\, comme les catastrophes naturelles\, ou endogènes\, comme la crise du système … @plus_info https://calenda-formation.labocleo.org/382774
LOCATION:La Defense
END:VEVENT
BEGIN:VEVENT
DTSTART;VALUE=DATE:20170202
DTEND;VALUE=DATE:20170203
UID:382774-20170202@calenda.revues.org
SUMMARY:Déprises d’enclaves touristiques et sorties du tourisme
URL:https://calenda-formation.labocleo.org/382774
DESCRIPTION:Ce séminaire cherchera à appréhender les « sorties du tourisme »\, entre crise et recomposition. Il examinera et analysera les causes des sorties du tourisme (causes exogènes\, comme les catastrophes naturelles\, ou endogènes\, comme la crise du système … @plus_info https://calenda-formation.labocleo.org/382774
LOCATION:La Defense
END:VEVENT
BEGIN:VEVENT
DTSTART;VALUE=DATE:20170316
DTEND;VALUE=DATE:20170317
UID:382774-20170316@calenda.revues.org
SUMMARY:Déprises d’enclaves touristiques et sorties du tourisme
URL:https://calenda-formation.labocleo.org/382774
DESCRIPTION:Ce séminaire cherchera à appréhender les « sorties du tourisme »\, entre crise et recomposition. Il examinera et analysera les causes des sorties du tourisme (causes exogènes\, comme les catastrophes naturelles\, ou endogènes\, comme la crise du système … @plus_info https://calenda-formation.labocleo.org/382774
LOCATION:La Defense
END:VEVENT
END:VCALENDAR
