BEGIN:VCALENDAR
VERSION:2.0
PRODID:-//https://calenda-formation.labocleo.org
X-WR-CALNAME:Calenda
X-WR-TIMEZONE:Europe/Paris
CALSCALE:GREGORIAN
X-WR-CALDESC:The calendar for arts, humanities and social sciences
METHOD:PUBLISH
BEGIN:VEVENT
DTSTART;VALUE=DATE:20161124
DTEND;VALUE=DATE:20161125
UID:382901-20161124@calenda.revues.org
SUMMARY:Critical theory and digital humanities
URL:https://calenda-formation.labocleo.org/382901
DESCRIPTION:Depuis quelques années\, la théorie critique et les humanités numériques connaissent une actualité universitaire particulièrement foisonnante. Si pour la première\, il s’agit d’un retour à l’avant-scène de la recherche\, les secondes\, en revanche\, trave… @plus_info https://calenda-formation.labocleo.org/382901
LOCATION:Liège
END:VEVENT
END:VCALENDAR
