BEGIN:VCALENDAR
VERSION:2.0
PRODID:-//https://calenda-formation.labocleo.org
X-WR-CALNAME:Calenda
X-WR-TIMEZONE:Europe/Paris
CALSCALE:GREGORIAN
X-WR-CALDESC:Le calendrier des lettres et sciences humaines et sociales
METHOD:PUBLISH
BEGIN:VEVENT
DTSTART;VALUE=DATE:20170131
DTEND;VALUE=DATE:20170201
UID:383188-20170131@calenda.revues.org
SUMMARY:La nation en fête en Amérique latine (XIX-XXIe siècle)
URL:https://calenda-formation.labocleo.org/383188
DESCRIPTION:Dans le cadre de cette journée d'études\, les organisateurs souhaitent prolonger une première réflexion menée conjointement par les équipes du Grecun de Paris Nanterre (groupe État\, culture\, nation ) et ALHIM de Paris 8 (Amérique latine\, histoire\, mém… @plus_info https://calenda-formation.labocleo.org/383188
LOCATION:Nanterre
END:VEVENT
END:VCALENDAR
