BEGIN:VCALENDAR
VERSION:2.0
PRODID:-//https://calenda-formation.labocleo.org
X-WR-CALNAME:Calenda
X-WR-TIMEZONE:Europe/Paris
CALSCALE:GREGORIAN
X-WR-CALDESC:The calendar for arts, humanities and social sciences
METHOD:PUBLISH
BEGIN:VEVENT
DTSTART;VALUE=DATE:20161120
DTEND;VALUE=DATE:20161121
UID:383726-20161120@calenda.revues.org
SUMMARY:Revue africaine des migrations internationales issue 1
URL:https://calenda-formation.labocleo.org/383726
DESCRIPTION:L'Afrique montre aujourd'hui ses richesses naturelles\, humains\, et même économique vue l'importance que l'en donne a travers les différents projets d'investissements\, les partenariats\, les échanges scientifiques... D'une source de main-ouvre à une fo… @plus_info https://calenda-formation.labocleo.org/383726
LOCATION:
END:VEVENT
END:VCALENDAR
