BEGIN:VCALENDAR
VERSION:2.0
PRODID:-//https://calenda-formation.labocleo.org
X-WR-CALNAME:Calenda
X-WR-TIMEZONE:Europe/Paris
CALSCALE:GREGORIAN
X-WR-CALDESC:Le calendrier des lettres et sciences humaines et sociales
METHOD:PUBLISH
BEGIN:VEVENT
DTSTART;VALUE=DATE:20161205
DTEND;VALUE=DATE:20161206
UID:383827-20161205@calenda.revues.org
SUMMARY:Revue algérienne de droit comparé (RADC) n°3 - Varia
URL:https://calenda-formation.labocleo.org/383827
DESCRIPTION:La Revue algérienne de droit comparé (RADC) éditée par le laboratoire de droit comparé – Faculté de droit\, Tlemcen (Algérie) lance un appel à contribution pour son troisième numéro. L’article doit s’articuler autour d’une thématique du droit comparé.… Weitere Informationen https://calenda-formation.labocleo.org/383827
LOCATION:
END:VEVENT
END:VCALENDAR
