BEGIN:VCALENDAR
VERSION:2.0
PRODID:-//https://calenda-formation.labocleo.org
X-WR-CALNAME:Calenda
X-WR-TIMEZONE:Europe/Paris
CALSCALE:GREGORIAN
X-WR-CALDESC:The calendar for arts, humanities and social sciences
METHOD:PUBLISH
BEGIN:VEVENT
DTSTART;VALUE=DATE:20161124
DTEND;VALUE=DATE:20161125
UID:384280-20161124@calenda.revues.org
SUMMARY:Republican modernities
URL:https://calenda-formation.labocleo.org/384280
DESCRIPTION:Ce colloque international « modernités républicaines »\, colloque inaugural du Centre européen des études républicaines (CEDRE) dirigé par Olivier Christin\, est placé sous le Haut Patronage du Président de la République. Il réunira des spécialistes de… @plus_info https://calenda-formation.labocleo.org/384280
LOCATION:Paris
END:VEVENT
BEGIN:VEVENT
DTSTART;VALUE=DATE:20161125
DTEND;VALUE=DATE:20161126
UID:384280-20161125@calenda.revues.org
SUMMARY:Republican modernities
URL:https://calenda-formation.labocleo.org/384280
DESCRIPTION:Ce colloque international « modernités républicaines »\, colloque inaugural du Centre européen des études républicaines (CEDRE) dirigé par Olivier Christin\, est placé sous le Haut Patronage du Président de la République. Il réunira des spécialistes de… @plus_info https://calenda-formation.labocleo.org/384280
LOCATION:Paris
END:VEVENT
END:VCALENDAR
