BEGIN:VCALENDAR
VERSION:2.0
PRODID:-//https://calenda-formation.labocleo.org
X-WR-CALNAME:Calenda
X-WR-TIMEZONE:Europe/Paris
CALSCALE:GREGORIAN
X-WR-CALDESC:Le calendrier des lettres et sciences humaines et sociales
METHOD:PUBLISH
BEGIN:VEVENT
DTSTART;VALUE=DATE:20170215
DTEND;VALUE=DATE:20170216
UID:384424-20170215@calenda.revues.org
SUMMARY:Attraktive Orte. Zur Aufnahme ausländischer StudentInnen
URL:https://calenda-formation.labocleo.org/384424
DESCRIPTION:Seit der mittelalterlichen «peregrinatio academica» sind StudentInnen während ihrer Ausbildung auf verschiedene Weise mobil. Diese Ausgabe von traverse konzentriert sich auf die Anwerbung\, die Ankunft und die Aufnahme ausländischer StudentInnen im Ga… Weitere Informationen https://calenda-formation.labocleo.org/384424
LOCATION:
END:VEVENT
END:VCALENDAR
