BEGIN:VCALENDAR
VERSION:2.0
PRODID:-//https://calenda-formation.labocleo.org
X-WR-CALNAME:Calenda
X-WR-TIMEZONE:Europe/Paris
CALSCALE:GREGORIAN
X-WR-CALDESC:O calendário de letras e de ciências sociais e humanas
METHOD:PUBLISH
BEGIN:VEVENT
DTSTART;VALUE=DATE:20161130
DTEND;VALUE=DATE:20161201
UID:384684-20161130@calenda.revues.org
SUMMARY:Ethnomusicologie et patrimonialisation
URL:https://calenda-formation.labocleo.org/384684
DESCRIPTION:Le Séminaire en ethnomusicologie et patrimonialisation (SEMEP) souhaite renforcer les relations en ethnomusicologie et en anthropologie musicale entre la France et l’Italie\, à travers des activités spécialement destinées aux étudiants du deuxième et … @plus_info https://calenda-formation.labocleo.org/384684
LOCATION:Nice\, Riva presso Chieri\, Milão
END:VEVENT
BEGIN:VEVENT
DTSTART;VALUE=DATE:20170421
DTEND;VALUE=DATE:20170422
UID:384684-20170421@calenda.revues.org
SUMMARY:Ethnomusicologie et patrimonialisation
URL:https://calenda-formation.labocleo.org/384684
DESCRIPTION:Le Séminaire en ethnomusicologie et patrimonialisation (SEMEP) souhaite renforcer les relations en ethnomusicologie et en anthropologie musicale entre la France et l’Italie\, à travers des activités spécialement destinées aux étudiants du deuxième et … @plus_info https://calenda-formation.labocleo.org/384684
LOCATION:Nice\, Riva presso Chieri\, Milão
END:VEVENT
BEGIN:VEVENT
DTSTART;VALUE=DATE:20170422
DTEND;VALUE=DATE:20170423
UID:384684-20170422@calenda.revues.org
SUMMARY:Ethnomusicologie et patrimonialisation
URL:https://calenda-formation.labocleo.org/384684
DESCRIPTION:Le Séminaire en ethnomusicologie et patrimonialisation (SEMEP) souhaite renforcer les relations en ethnomusicologie et en anthropologie musicale entre la France et l’Italie\, à travers des activités spécialement destinées aux étudiants du deuxième et … @plus_info https://calenda-formation.labocleo.org/384684
LOCATION:Nice\, Riva presso Chieri\, Milão
END:VEVENT
BEGIN:VEVENT
DTSTART;VALUE=DATE:20170502
DTEND;VALUE=DATE:20170503
UID:384684-20170502@calenda.revues.org
SUMMARY:Ethnomusicologie et patrimonialisation
URL:https://calenda-formation.labocleo.org/384684
DESCRIPTION:Le Séminaire en ethnomusicologie et patrimonialisation (SEMEP) souhaite renforcer les relations en ethnomusicologie et en anthropologie musicale entre la France et l’Italie\, à travers des activités spécialement destinées aux étudiants du deuxième et … @plus_info https://calenda-formation.labocleo.org/384684
LOCATION:Nice\, Riva presso Chieri\, Milão
END:VEVENT
END:VCALENDAR
