BEGIN:VCALENDAR
VERSION:2.0
PRODID:-//https://calenda-formation.labocleo.org
X-WR-CALNAME:Calenda
X-WR-TIMEZONE:Europe/Paris
CALSCALE:GREGORIAN
X-WR-CALDESC:Le calendrier des lettres et sciences humaines et sociales
METHOD:PUBLISH
BEGIN:VEVENT
DTSTART;VALUE=DATE:20170110
DTEND;VALUE=DATE:20170111
UID:384813-20170110@calenda.revues.org
SUMMARY:Familles et santé en Afrique
URL:https://calenda-formation.labocleo.org/384813
DESCRIPTION:En contexte africain\, la santé ou la maladie\, reste encore un fait collectif et familial. L’itinéraire thérapeutique suivi n’est pas toujours celui voulu ou choisi par le malade lui-même mais\, il est aussi très souvent celui choisi et décidé par sa f… Weitere Informationen https://calenda-formation.labocleo.org/384813
LOCATION:Yaoundé
END:VEVENT
END:VCALENDAR
